BEGIN:VCALENDAR
VERSION:2.0
PRODID:-//Squarespace Inc/Squarespace 6//v6//EN
BEGIN:VEVENT
UID:54519b58e4b0bea70c60d3f1@squarespace.com
DTSTAMP:20141030T021048Z
DTSTART:20141119T044500Z
DTEND:20141119T054500Z
SUMMARY:Puppy Programme starts
GEO:-35.731123;174.32482
LOCATION:Pet Essentials\, 32A Commerce St\, Whangarei\, Northland\, 0110\, 
 New Zealand
END:VEVENT
END:VCALENDAR
