BEGIN:VCALENDAR
VERSION:2.0
PRODID:-//Squarespace Inc/Squarespace 6//v6//EN
BEGIN:VEVENT
UID:5408f59de4b09b78e4e7b813@squarespace.com
DTSTAMP:20141029T221824Z
DTSTART:20141205T210000Z
DTEND:20141207T020000Z
SUMMARY:Whangarei Summer Show
END:VEVENT
END:VCALENDAR
