BEGIN:VCALENDAR
VERSION:2.0
PRODID:-//Squarespace Inc/Squarespace 6//v6//EN
BEGIN:VEVENT
UID:547971dae4b0db8f16a4abbc@squarespace.com
DTSTAMP:20141217T074930Z
DTSTART:20150113T043000Z
DTEND:20150113T063000Z
SUMMARY:Introduction to clicker training - Seminar
END:VEVENT
END:VCALENDAR
