BEGIN:VCALENDAR
VERSION:2.0
PRODID:-//Squarespace Inc/Squarespace 6//v6//EN
BEGIN:VEVENT
UID:54b9ab3be4b07b4a7d141430@squarespace.com
DTSTAMP:20150401T005413Z
DTSTART:20150423T060000Z
DTEND:20150423T073000Z
SUMMARY:Canine Body Language – Tutorial
END:VEVENT
END:VCALENDAR
