BEGIN:VCALENDAR
VERSION:2.0
PRODID:-//Squarespace Inc/Squarespace 6//v6//EN
BEGIN:VEVENT
UID:54f4daace4b010d2dd820e11@squarespace.com
DTSTAMP:20150302T220113Z
DTSTART:20150320T210000Z
DTEND:20150321T020000Z
SUMMARY:Cause for Paws 2015
END:VEVENT
END:VCALENDAR
