BEGIN:VCALENDAR
VERSION:2.0
PRODID:-//Squarespace Inc/Squarespace 6//v6//EN
BEGIN:VEVENT
UID:551b41ede4b0f5016a19ea1a@squarespace.com
DTSTAMP:20170814T023658Z
DTSTART:20170818T061500Z
DTEND:20170825T073000Z
SUMMARY:Canine Nose Work - Introduction to Nose Work course
END:VEVENT
END:VCALENDAR
