BEGIN:VCALENDAR
VERSION:2.0
PRODID:-//Squarespace Inc/Squarespace 6//v6//EN
BEGIN:VEVENT
UID:574bac158259b5de67357ec2@squarespace.com
DTSTAMP:20160609T080620Z
DTSTART:20160624T210000Z
DTEND:20160625T010000Z
SUMMARY: Introduction to mushing - workshop
END:VEVENT
END:VCALENDAR
