BEGIN:VCALENDAR
VERSION:2.0
PRODID:-//Squarespace Inc/Squarespace 6//v6//EN
BEGIN:VEVENT
UID:594620d4e6f2e17ea4c30b19@squarespace.com
DTSTAMP:20171227T044440Z
DTSTART:20180113T051500Z
DTEND:20180210T061500Z
SUMMARY:Good Manners course
END:VEVENT
END:VCALENDAR
