BEGIN:VCALENDAR
VERSION:2.0
PRODID:-//Squarespace Inc/Squarespace 6//v6//EN
BEGIN:VEVENT
UID:59521e7d099c01d80130d10b@squarespace.com
DTSTAMP:20170627T091624Z
DTSTART:20170708T220000Z
DTEND:20170709T040000Z
SUMMARY:‘Train your dog like a Pro’ – Workshop
END:VEVENT
END:VCALENDAR
