BEGIN:VCALENDAR
VERSION:2.0
PRODID:-//Squarespace Inc/Squarespace 6//v6//EN
BEGIN:VEVENT
UID:5a48481a652deacfabc97f32@squarespace.com
DTSTAMP:20180106T062842Z
DTSTART:20180103T233000Z
DTEND:20180120T000000Z
SUMMARY:Summer holiday programme
END:VEVENT
END:VCALENDAR
